Package: flowAI Version: 1.34.0 Command: /Library/Frameworks/R.framework/Resources/bin/R CMD build --keep-empty-dirs --no-resave-data flowAI StartedAt: 2024-06-09 16:40:00 -0400 (Sun, 09 Jun 2024) EndedAt: 2024-06-09 16:40:20 -0400 (Sun, 09 Jun 2024) EllapsedTime: 20.2 seconds RetCode: 0 Status: OK PackageFile: flowAI_1.34.0.tar.gz PackageFileSize: 3.747 MiB