Package: flowAI Version: 1.34.0 Command: /Library/Frameworks/R.framework/Resources/bin/R CMD INSTALL flowAI StartedAt: 2024-06-09 16:18:01 -0400 (Sun, 09 Jun 2024) EndedAt: 2024-06-09 16:18:18 -0400 (Sun, 09 Jun 2024) EllapsedTime: 16.5 seconds RetCode: 0 Status: OK