Package: flowAI Version: 1.34.0 Command: rm -rf flowAI.buildbin-libdir && mkdir flowAI.buildbin-libdir && /Users/biocbuild/BBS/utils/build-universal.sh flowAI_1.34.0.tar.gz /Library/Frameworks/R.framework/Resources/bin/R flowAI.buildbin-libdir StartedAt: 2024-06-11 11:14:39 -0400 (Tue, 11 Jun 2024) EndedAt: 2024-06-11 11:15:04 -0400 (Tue, 11 Jun 2024) EllapsedTime: 24.6 seconds RetCode: 0 Status: OK PackageFile: flowAI_1.34.0.tgz PackageFileSize: 4.869 MiB