Package: flowAI Version: 1.34.0 Command: /Library/Frameworks/R.framework/Resources/bin/R CMD check --install=check:flowAI.install-out.txt --library=/Library/Frameworks/R.framework/Resources/library --no-vignettes --timings flowAI_1.34.0.tar.gz StartedAt: 2024-10-17 21:47:43 -0400 (Thu, 17 Oct 2024) EndedAt: 2024-10-17 21:49:08 -0400 (Thu, 17 Oct 2024) EllapsedTime: 84.9 seconds RetCode: 0 Status: OK CheckDir: flowAI.Rcheck Warnings: 0