Package: flowAI Version: 1.34.0 Command: rm -rf flowAI.buildbin-libdir && mkdir flowAI.buildbin-libdir && /Users/biocbuild/BBS/utils/build-universal.sh flowAI_1.34.0.tar.gz /Library/Frameworks/R.framework/Resources/bin/R flowAI.buildbin-libdir StartedAt: 2024-10-18 18:30:22 -0400 (Fri, 18 Oct 2024) EndedAt: 2024-10-18 18:30:41 -0400 (Fri, 18 Oct 2024) EllapsedTime: 19.1 seconds RetCode: 0 Status: OK PackageFile: flowAI_1.34.0.tgz PackageFileSize: 4.869 MiB