Package: flowAI Version: 1.34.0 Maintainer: Gianni Monaco MaintainerEmail: mongianni1 at gmail.com git_url: https://git.bioconductor.org/packages/flowAI git_branch: RELEASE_3_19 git_last_commit: 393b1af git_last_commit_date: 2024-04-30 10:47:46 -0400 (Tue, 30 Apr 2024)