Package: flagme Version: 1.60.0 Command: /Library/Frameworks/R.framework/Resources/bin/R CMD INSTALL flagme StartedAt: 2024-10-16 16:24:10 -0400 (Wed, 16 Oct 2024) EndedAt: 2024-10-16 16:25:59 -0400 (Wed, 16 Oct 2024) EllapsedTime: 109.3 seconds RetCode: 0 Status: OK