Package: flagme Version: 1.60.0 Command: /Library/Frameworks/R.framework/Resources/bin/R CMD build --keep-empty-dirs --no-resave-data flagme StartedAt: 2024-10-16 19:16:12 -0400 (Wed, 16 Oct 2024) EndedAt: 2024-10-16 19:24:10 -0400 (Wed, 16 Oct 2024) EllapsedTime: 478.6 seconds RetCode: 0 Status: OK PackageFile: flagme_1.60.0.tar.gz PackageFileSize: 726.8 KiB