Package: flagme Version: 1.60.0 Command: /Library/Frameworks/R.framework/Resources/bin/R CMD INSTALL flagme StartedAt: 2024-10-16 17:40:46 -0400 (Wed, 16 Oct 2024) EndedAt: 2024-10-16 17:41:45 -0400 (Wed, 16 Oct 2024) EllapsedTime: 58.1 seconds RetCode: 0 Status: OK