Package: fishpond Version: 2.10.0 Command: rm -rf fishpond.buildbin-libdir && mkdir fishpond.buildbin-libdir && F:\biocbuild\bbs-3.19-bioc\R\bin\R.exe CMD INSTALL --build --library=fishpond.buildbin-libdir fishpond_2.10.0.tar.gz StartedAt: 2024-06-27 08:13:01 -0400 (Thu, 27 Jun 2024) EndedAt: 2024-06-27 08:13:40 -0400 (Thu, 27 Jun 2024) EllapsedTime: 39.3 seconds RetCode: 0 Status: OK PackageFile: fishpond_2.10.0.zip PackageFileSize: 1.576 MiB