Package: findIPs Version: 1.0.0 Command: /home/biocbuild/bbs-3.19-bioc/R/bin/R CMD check --install=check:findIPs.install-out.txt --library=/home/biocbuild/bbs-3.19-bioc/R/site-library --timings findIPs_1.0.0.tar.gz StartedAt: 2024-10-17 00:26:15 -0400 (Thu, 17 Oct 2024) EndedAt: 2024-10-17 00:37:17 -0400 (Thu, 17 Oct 2024) EllapsedTime: 662.5 seconds RetCode: 0 Status: OK CheckDir: findIPs.Rcheck Warnings: 0