Package: findIPs Version: 1.0.0 Command: /home/biocbuild/bbs-3.19-bioc/R/bin/R CMD build --keep-empty-dirs --no-resave-data findIPs StartedAt: 2024-10-16 18:30:30 -0400 (Wed, 16 Oct 2024) EndedAt: 2024-10-16 18:35:14 -0400 (Wed, 16 Oct 2024) EllapsedTime: 283.7 seconds RetCode: 0 Status: OK PackageFile: findIPs_1.0.0.tar.gz PackageFileSize: 2.289 MiB