Package: findIPs Version: 1.0.0 Command: /Library/Frameworks/R.framework/Resources/bin/R CMD INSTALL findIPs StartedAt: 2024-10-16 16:17:46 -0400 (Wed, 16 Oct 2024) EndedAt: 2024-10-16 16:18:30 -0400 (Wed, 16 Oct 2024) EllapsedTime: 44.1 seconds RetCode: 0 Status: OK