Package: findIPs Version: 1.0.0 Command: /Library/Frameworks/R.framework/Resources/bin/R CMD build --keep-empty-dirs --no-resave-data findIPs StartedAt: 2024-10-16 19:15:43 -0400 (Wed, 16 Oct 2024) EndedAt: 2024-10-16 19:28:40 -0400 (Wed, 16 Oct 2024) EllapsedTime: 777.2 seconds RetCode: 0 Status: OK PackageFile: findIPs_1.0.0.tar.gz PackageFileSize: 2.292 MiB