Package: findIPs Version: 1.0.0 Command: rm -rf findIPs.buildbin-libdir && mkdir findIPs.buildbin-libdir && /Users/biocbuild/BBS/utils/build-universal.sh findIPs_1.0.0.tar.gz /Library/Frameworks/R.framework/Resources/bin/R findIPs.buildbin-libdir StartedAt: 2024-10-17 16:09:42 -0400 (Thu, 17 Oct 2024) EndedAt: 2024-10-17 16:10:31 -0400 (Thu, 17 Oct 2024) EllapsedTime: 48.8 seconds RetCode: 0 Status: OK PackageFile: findIPs_1.0.0.tgz PackageFileSize: 2.138 MiB