Package: findIPs Version: 1.0.0 Command: /home/biocbuild/R/R-beta-2024-04-15_r86425/bin/R CMD build --keep-empty-dirs --no-resave-data findIPs StartedAt: 2024-05-09 00:17:26 -0000 (Thu, 09 May 2024) EndedAt: 2024-05-09 00:24:24 -0000 (Thu, 09 May 2024) EllapsedTime: 417.6 seconds RetCode: 0 Status: OK PackageFile: findIPs_1.0.0.tar.gz PackageFileSize: 2.295 MiB