Package: fgsea Version: 1.30.0 Command: rm -rf fgsea.buildbin-libdir && mkdir fgsea.buildbin-libdir && F:\biocbuild\bbs-3.19-bioc\R\bin\R.exe CMD INSTALL --build --library=fgsea.buildbin-libdir fgsea_1.30.0.tar.gz StartedAt: 2024-06-27 08:12:51 -0400 (Thu, 27 Jun 2024) EndedAt: 2024-06-27 08:14:25 -0400 (Thu, 27 Jun 2024) EllapsedTime: 94.2 seconds RetCode: 0 Status: OK PackageFile: fgsea_1.30.0.zip PackageFileSize: 3.94 MiB