Package: fgsea Version: 1.30.0 Command: /Library/Frameworks/R.framework/Resources/bin/R CMD check --install=check:fgsea.install-out.txt --library=/Library/Frameworks/R.framework/Resources/library --no-vignettes --timings fgsea_1.30.0.tar.gz StartedAt: 2024-10-17 05:18:28 -0400 (Thu, 17 Oct 2024) EndedAt: 2024-10-17 05:26:44 -0400 (Thu, 17 Oct 2024) EllapsedTime: 496.1 seconds RetCode: 0 Status: WARNINGS CheckDir: fgsea.Rcheck Warnings: 1