Package: fgsea Version: 1.30.0 Command: rm -rf fgsea.buildbin-libdir && mkdir fgsea.buildbin-libdir && /Users/biocbuild/BBS/utils/build-universal.sh fgsea_1.30.0.tar.gz /Library/Frameworks/R.framework/Resources/bin/R fgsea.buildbin-libdir StartedAt: 2024-06-10 00:18:11 -0400 (Mon, 10 Jun 2024) EndedAt: 2024-06-10 00:19:01 -0400 (Mon, 10 Jun 2024) EllapsedTime: 50.8 seconds RetCode: 0 Status: OK PackageFile: fgsea_1.30.0.tgz PackageFileSize: 4.635 MiB