Package: fgsea Version: 1.30.0 Maintainer: Alexey Sergushichev MaintainerEmail: alsergbox at gmail.com git_url: https://git.bioconductor.org/packages/fgsea git_branch: RELEASE_3_19 git_last_commit: 5f63439 git_last_commit_date: 2024-04-30 10:52:02 -0400 (Tue, 30 Apr 2024)