Package: fgga Version: 1.12.0 Command: /home/biocbuild/R/R-beta-2024-04-15_r86425/bin/R CMD build --keep-empty-dirs --no-resave-data fgga StartedAt: 2024-05-09 00:16:59 -0000 (Thu, 09 May 2024) EndedAt: 2024-05-09 00:18:11 -0000 (Thu, 09 May 2024) EllapsedTime: 71.1 seconds RetCode: 0 Status: OK PackageFile: fgga_1.12.0.tar.gz PackageFileSize: 1.375 MiB