Package: ffpe Version: 1.48.0 Command: /home/biocbuild/bbs-3.19-bioc/R/bin/R CMD INSTALL ffpe StartedAt: 2024-10-16 16:44:51 -0400 (Wed, 16 Oct 2024) EndedAt: 2024-10-16 16:45:37 -0400 (Wed, 16 Oct 2024) EllapsedTime: 45.6 seconds RetCode: 0 Status: OK