Package: ffpe Version: 1.48.0 Command: /home/biocbuild/bbs-3.19-bioc/R/bin/R CMD build --keep-empty-dirs --no-resave-data ffpe StartedAt: 2024-10-16 18:30:11 -0400 (Wed, 16 Oct 2024) EndedAt: 2024-10-16 18:31:21 -0400 (Wed, 16 Oct 2024) EllapsedTime: 70.2 seconds RetCode: 0 Status: OK PackageFile: ffpe_1.48.0.tar.gz PackageFileSize: 162.3 KiB