Package: ffpe Version: 1.48.0 Command: /Library/Frameworks/R.framework/Resources/bin/R CMD build --keep-empty-dirs --no-resave-data ffpe StartedAt: 2024-06-09 16:39:31 -0400 (Sun, 09 Jun 2024) EndedAt: 2024-06-09 16:40:50 -0400 (Sun, 09 Jun 2024) EllapsedTime: 79.0 seconds RetCode: 0 Status: OK PackageFile: ffpe_1.48.0.tar.gz PackageFileSize: 267.2 KiB