Package: ffpe Version: 1.48.0 Command: rm -rf ffpe.buildbin-libdir && mkdir ffpe.buildbin-libdir && /Users/biocbuild/BBS/utils/build-universal.sh ffpe_1.48.0.tar.gz /Library/Frameworks/R.framework/Resources/bin/R ffpe.buildbin-libdir StartedAt: 2024-06-11 11:14:07 -0400 (Tue, 11 Jun 2024) EndedAt: 2024-06-11 11:15:50 -0400 (Tue, 11 Jun 2024) EllapsedTime: 102.7 seconds RetCode: 0 Status: OK PackageFile: ffpe_1.48.0.tgz PackageFileSize: 298.2 KiB