Package: fenr Version: 1.2.1 Command: rm -rf fenr.buildbin-libdir && mkdir fenr.buildbin-libdir && E:\biocbuild\bbs-3.19-bioc\R\bin\R.exe CMD INSTALL --build --library=fenr.buildbin-libdir fenr_1.2.1.tar.gz StartedAt: 2024-10-17 07:47:42 -0400 (Thu, 17 Oct 2024) EndedAt: 2024-10-17 07:47:52 -0400 (Thu, 17 Oct 2024) EllapsedTime: 10.5 seconds RetCode: 0 Status: OK PackageFile: fenr_1.2.1.zip PackageFileSize: 1.75 MiB