Package: fenr Version: 1.2.1 Command: F:\biocbuild\bbs-3.19-bioc\R\bin\R.exe CMD INSTALL fenr StartedAt: 2024-06-26 16:17:20 -0400 (Wed, 26 Jun 2024) EndedAt: 2024-06-26 16:17:29 -0400 (Wed, 26 Jun 2024) EllapsedTime: 8.8 seconds RetCode: 0 Status: OK