Package: fenr Version: 1.2.1 Command: rm -rf fenr.buildbin-libdir && mkdir fenr.buildbin-libdir && /Users/biocbuild/BBS/utils/build-universal.sh fenr_1.2.1.tar.gz /Library/Frameworks/R.framework/Resources/bin/R fenr.buildbin-libdir StartedAt: 2024-10-18 18:29:27 -0400 (Fri, 18 Oct 2024) EndedAt: 2024-10-18 18:29:33 -0400 (Fri, 18 Oct 2024) EllapsedTime: 5.8 seconds RetCode: 0 Status: OK PackageFile: fenr_1.2.1.tgz PackageFileSize: 1.746 MiB