Package: fedup Version: 1.12.0 Command: F:\biocbuild\bbs-3.19-bioc\R\bin\R.exe CMD check --no-multiarch --install=check:fedup.install-out.txt --library=F:\biocbuild\bbs-3.19-bioc\R\library --no-vignettes --timings fedup_1.12.0.tar.gz StartedAt: 2024-06-27 01:37:39 -0400 (Thu, 27 Jun 2024) EndedAt: 2024-06-27 01:42:51 -0400 (Thu, 27 Jun 2024) EllapsedTime: 311.5 seconds RetCode: 0 Status: OK CheckDir: fedup.Rcheck Warnings: 0