Package: fedup Version: 1.12.0 Command: rm -rf fedup.buildbin-libdir && mkdir fedup.buildbin-libdir && F:\biocbuild\bbs-3.19-bioc\R\bin\R.exe CMD INSTALL --build --library=fedup.buildbin-libdir fedup_1.12.0.tar.gz StartedAt: 2024-06-27 08:12:40 -0400 (Thu, 27 Jun 2024) EndedAt: 2024-06-27 08:12:57 -0400 (Thu, 27 Jun 2024) EllapsedTime: 16.7 seconds RetCode: 0 Status: OK PackageFile: fedup_1.12.0.zip PackageFileSize: 3.213 MiB