Package: fdrame Version: 1.76.0 Command: /Library/Frameworks/R.framework/Resources/bin/R CMD build --keep-empty-dirs --no-resave-data fdrame StartedAt: 2024-10-16 19:13:48 -0400 (Wed, 16 Oct 2024) EndedAt: 2024-10-16 19:14:16 -0400 (Wed, 16 Oct 2024) EllapsedTime: 28.4 seconds RetCode: 0 Status: OK PackageFile: fdrame_1.76.0.tar.gz PackageFileSize: 972.5 KiB