Package: fdrame Version: 1.76.0 Command: /home/biocbuild/R/R-beta-2024-04-15_r86425/bin/R CMD check --install=check:fdrame.install-out.txt --library=/home/biocbuild/R/R-beta-2024-04-15_r86425/site-library --no-vignettes --timings fdrame_1.76.0.tar.gz StartedAt: 2024-05-09 07:23:57 -0000 (Thu, 09 May 2024) EndedAt: 2024-05-09 07:24:20 -0000 (Thu, 09 May 2024) EllapsedTime: 23.0 seconds RetCode: 0 Status: OK CheckDir: fdrame.Rcheck Warnings: 0