Package: fdrame Version: 1.76.0 Command: /Library/Frameworks/R.framework/Resources/bin/R CMD check --install=check:fdrame.install-out.txt --library=/Library/Frameworks/R.framework/Resources/library --no-vignettes --timings fdrame_1.76.0.tar.gz StartedAt: 2024-06-10 15:38:31 -0400 (Mon, 10 Jun 2024) EndedAt: 2024-06-10 15:42:12 -0400 (Mon, 10 Jun 2024) EllapsedTime: 220.7 seconds RetCode: 0 Status: OK CheckDir: fdrame.Rcheck Warnings: 0