Package: fcScan Version: 1.18.0 Command: chmod a+r fcScan -R && E:\biocbuild\bbs-3.19-bioc\R\bin\R.exe CMD build --keep-empty-dirs --no-resave-data fcScan StartedAt: 2024-10-16 19:08:21 -0400 (Wed, 16 Oct 2024) EndedAt: 2024-10-16 19:09:38 -0400 (Wed, 16 Oct 2024) EllapsedTime: 77.5 seconds RetCode: 0 Status: OK PackageFile: fcScan_1.18.0.tar.gz PackageFileSize: 241.9 KiB