Package: fcScan Version: 1.18.0 Command: chmod a+r fcScan -R && F:\biocbuild\bbs-3.19-bioc\R\bin\R.exe CMD build --keep-empty-dirs --no-resave-data fcScan StartedAt: 2024-06-26 18:51:26 -0400 (Wed, 26 Jun 2024) EndedAt: 2024-06-26 18:52:49 -0400 (Wed, 26 Jun 2024) EllapsedTime: 83.0 seconds RetCode: 0 Status: OK PackageFile: fcScan_1.18.0.tar.gz PackageFileSize: 241.9 KiB