Package: fcScan Version: 1.18.0 Command: /Library/Frameworks/R.framework/Resources/bin/R CMD INSTALL fcScan StartedAt: 2024-10-16 15:42:21 -0400 (Wed, 16 Oct 2024) EndedAt: 2024-10-16 15:43:47 -0400 (Wed, 16 Oct 2024) EllapsedTime: 85.3 seconds RetCode: 0 Status: OK