Package: fcScan Version: 1.18.0 Command: /Library/Frameworks/R.framework/Resources/bin/R CMD build --keep-empty-dirs --no-resave-data fcScan StartedAt: 2024-10-16 19:13:46 -0400 (Wed, 16 Oct 2024) EndedAt: 2024-10-16 19:16:07 -0400 (Wed, 16 Oct 2024) EllapsedTime: 141.5 seconds RetCode: 0 Status: OK PackageFile: fcScan_1.18.0.tar.gz PackageFileSize: 241.7 KiB