Package: fcScan Version: 1.18.0 Command: rm -rf fcScan.buildbin-libdir && mkdir fcScan.buildbin-libdir && /Users/biocbuild/BBS/utils/build-universal.sh fcScan_1.18.0.tar.gz /Library/Frameworks/R.framework/Resources/bin/R fcScan.buildbin-libdir StartedAt: 2024-10-17 16:09:10 -0400 (Thu, 17 Oct 2024) EndedAt: 2024-10-17 16:10:42 -0400 (Thu, 17 Oct 2024) EllapsedTime: 92.0 seconds RetCode: 0 Status: OK PackageFile: fcScan_1.18.0.tgz PackageFileSize: 271.9 KiB