Package: fcScan Version: 1.18.0 Command: /Library/Frameworks/R.framework/Resources/bin/R CMD build --keep-empty-dirs --no-resave-data fcScan StartedAt: 2024-06-09 16:38:46 -0400 (Sun, 09 Jun 2024) EndedAt: 2024-06-09 16:39:54 -0400 (Sun, 09 Jun 2024) EllapsedTime: 68.1 seconds RetCode: 0 Status: OK PackageFile: fcScan_1.18.0.tar.gz PackageFileSize: 241.7 KiB