Package: fcScan Version: 1.18.0 Command: /home/biocbuild/R/R-beta-2024-04-15_r86425/bin/R CMD build --keep-empty-dirs --no-resave-data fcScan StartedAt: 2024-05-09 00:16:16 -0000 (Thu, 09 May 2024) EndedAt: 2024-05-09 00:17:26 -0000 (Thu, 09 May 2024) EllapsedTime: 70.1 seconds RetCode: 0 Status: OK PackageFile: fcScan_1.18.0.tar.gz PackageFileSize: 268 KiB