Package: fcScan Version: 1.18.0 Command: rm -rf fcScan.buildbin-libdir && mkdir fcScan.buildbin-libdir && /Users/biocbuild/BBS/utils/build-universal.sh fcScan_1.18.0.tar.gz /Library/Frameworks/R.framework/Resources/bin/R fcScan.buildbin-libdir StartedAt: 2024-06-11 11:12:55 -0400 (Tue, 11 Jun 2024) EndedAt: 2024-06-11 11:14:27 -0400 (Tue, 11 Jun 2024) EllapsedTime: 91.2 seconds RetCode: 0 Status: OK PackageFile: fcScan_1.18.0.tgz PackageFileSize: 272.1 KiB