Package: fcScan Version: 1.18.0 Maintainer: Pierre Khoueiry Abdullah El-Kurdi MaintainerEmail: ak161 at aub.edu.lb git_url: https://git.bioconductor.org/packages/fcScan git_branch: RELEASE_3_19 git_last_commit: 6179d26 git_last_commit_date: 2024-04-30 11:16:27 -0400 (Tue, 30 Apr 2024)