Package: fastseg Version: 1.50.0 Command: /home/biocbuild/bbs-3.19-bioc/R/bin/R CMD INSTALL fastseg StartedAt: 2024-10-16 16:00:24 -0400 (Wed, 16 Oct 2024) EndedAt: 2024-10-16 16:00:35 -0400 (Wed, 16 Oct 2024) EllapsedTime: 11.2 seconds RetCode: 0 Status: OK