Package: fastseg Version: 1.50.0 Command: /home/biocbuild/bbs-3.19-bioc/R/bin/R CMD build --keep-empty-dirs --no-resave-data fastseg StartedAt: 2024-10-16 18:28:51 -0400 (Wed, 16 Oct 2024) EndedAt: 2024-10-16 18:29:38 -0400 (Wed, 16 Oct 2024) EllapsedTime: 47.1 seconds RetCode: 0 Status: OK PackageFile: fastseg_1.50.0.tar.gz PackageFileSize: 650 KiB