Package: fastseg Version: 1.50.0 Command: /Library/Frameworks/R.framework/Resources/bin/R CMD check --install=check:fastseg.install-out.txt --library=/Library/Frameworks/R.framework/Resources/library --no-vignettes --timings fastseg_1.50.0.tar.gz StartedAt: 2024-06-10 15:35:30 -0400 (Mon, 10 Jun 2024) EndedAt: 2024-06-10 15:37:58 -0400 (Mon, 10 Jun 2024) EllapsedTime: 148.3 seconds RetCode: 0 Status: OK CheckDir: fastseg.Rcheck Warnings: 0