Package: fastseg Version: 1.50.0 Command: /Library/Frameworks/R.framework/Resources/bin/R CMD build --keep-empty-dirs --no-resave-data fastseg StartedAt: 2024-06-09 21:31:03 -0400 (Sun, 09 Jun 2024) EndedAt: 2024-06-09 21:32:02 -0400 (Sun, 09 Jun 2024) EllapsedTime: 59.6 seconds RetCode: 0 Status: OK PackageFile: fastseg_1.50.0.tar.gz PackageFileSize: 729.9 KiB