Package: fastseg Version: 1.50.0 Command: rm -rf fastseg.buildbin-libdir && mkdir fastseg.buildbin-libdir && /Users/biocbuild/BBS/utils/build-universal.sh fastseg_1.50.0.tar.gz /Library/Frameworks/R.framework/Resources/bin/R fastseg.buildbin-libdir StartedAt: 2024-10-18 18:28:16 -0400 (Fri, 18 Oct 2024) EndedAt: 2024-10-18 18:28:37 -0400 (Fri, 18 Oct 2024) EllapsedTime: 20.6 seconds RetCode: 0 Status: OK PackageFile: fastseg_1.50.0.tgz PackageFileSize: 765.1 KiB