Package: fastreeR Version: 1.8.0 Command: E:\biocbuild\bbs-3.19-bioc\R\bin\R.exe CMD check --no-multiarch --install=check:fastreeR.install-out.txt --library=E:\biocbuild\bbs-3.19-bioc\R\library --no-vignettes --timings fastreeR_1.8.0.tar.gz StartedAt: 2024-10-17 01:25:28 -0400 (Thu, 17 Oct 2024) EndedAt: 2024-10-17 01:26:22 -0400 (Thu, 17 Oct 2024) EllapsedTime: 54.4 seconds RetCode: 0 Status: OK CheckDir: fastreeR.Rcheck Warnings: 0