Package: fastreeR Version: 1.8.0 Command: rm -rf fastreeR.buildbin-libdir && mkdir fastreeR.buildbin-libdir && F:\biocbuild\bbs-3.19-bioc\R\bin\R.exe CMD INSTALL --build --library=fastreeR.buildbin-libdir fastreeR_1.8.0.tar.gz StartedAt: 2024-06-27 08:12:23 -0400 (Thu, 27 Jun 2024) EndedAt: 2024-06-27 08:12:35 -0400 (Thu, 27 Jun 2024) EllapsedTime: 11.6 seconds RetCode: 0 Status: OK PackageFile: fastreeR_1.8.0.zip PackageFileSize: 1.999 MiB