Package: fastreeR Version: 1.8.0 Command: rm -rf fastreeR.buildbin-libdir && mkdir fastreeR.buildbin-libdir && /Users/biocbuild/BBS/utils/build-universal.sh fastreeR_1.8.0.tar.gz /Library/Frameworks/R.framework/Resources/bin/R fastreeR.buildbin-libdir StartedAt: 2024-06-11 11:12:37 -0400 (Tue, 11 Jun 2024) EndedAt: 2024-06-11 11:12:46 -0400 (Tue, 11 Jun 2024) EllapsedTime: 8.9 seconds RetCode: 0 Status: OK PackageFile: fastreeR_1.8.0.tgz PackageFileSize: 2.107 MiB